BEGIN:VCALENDAR
VERSION:2.0
PRODID:spatie/icalendar-generator
DESCRIPTION:Events from ĐỀN THÁNH ĐỨC MẸ LA VANG
X-WR-CALDESC:Events from ĐỀN THÁNH ĐỨC MẸ LA VANG
REFRESH-INTERVAL;VALUE=DURATION:PT1440M
X-PUBLISHED-TTL:PT1440M
BEGIN:VTIMEZONE
TZID:America/Chicago
BEGIN:DAYLIGHT
DTSTART:20220313T020000Z
TZOFFSETFROM:-0600
TZOFFSETTO:-0500
END:DAYLIGHT
BEGIN:STANDARD
DTSTART:20221106T020000Z
TZOFFSETFROM:-0500
TZOFFSETTO:-0600
END:STANDARD
BEGIN:DAYLIGHT
DTSTART:20230312T020000Z
TZOFFSETFROM:-0600
TZOFFSETTO:-0500
END:DAYLIGHT
END:VTIMEZONE
BEGIN:VTIMEZONE
TZID:UTC
BEGIN:STANDARD
DTSTART:20250725T094955Z
TZOFFSETFROM:+0000
TZOFFSETTO:+0000
END:STANDARD
END:VTIMEZONE
BEGIN:VEVENT
UID:7-6
DTSTAMP:20260421T094955Z
SUMMARY:6TH CLASS - Mỗi lớp đọc 10 kinh kính mừng bắt đầu h
 ọc.
LOCATION:ĐỀN THÁNH ĐỨC MẸ LA VANG 6054 Vermillion Blvd  New Orlean
 s LA 70122
ORGANIZER;CN=Thang Ho:MAILTO:7hangho@gmail.com
DTSTART;TZID=America/Chicago:20221016T080000
DTEND;TZID=America/Chicago:20221016T090000
X-ALT-DESC;FMTTYPE=TEXT/HTML:Anh Thăng Và Chị hằng sẽ giúp Trật 
 lớp tuần này.
CATEGORIES:General
URL;VALUE=URI:https://lavanghph.digcastdeploy.us/mc-events/6th-class-moi-lo
 p-doc-10-kinh-kinh-mung-bat-dau-hoc/
METHOD:PUBLISH
END:VEVENT
END:VCALENDAR