BEGIN:VCALENDAR
VERSION:2.0
PRODID:spatie/icalendar-generator
DESCRIPTION:Events from ĐỀN THÁNH ĐỨC MẸ LA VANG
X-WR-CALDESC:Events from ĐỀN THÁNH ĐỨC MẸ LA VANG
REFRESH-INTERVAL;VALUE=DURATION:PT1440M
X-PUBLISHED-TTL:PT1440M
BEGIN:VTIMEZONE
TZID:America/Chicago
BEGIN:STANDARD
DTSTART:20221106T020000Z
TZOFFSETFROM:-0500
TZOFFSETTO:-0600
END:STANDARD
BEGIN:DAYLIGHT
DTSTART:20230312T020000Z
TZOFFSETFROM:-0600
TZOFFSETTO:-0500
END:DAYLIGHT
END:VTIMEZONE
BEGIN:VTIMEZONE
TZID:UTC
BEGIN:STANDARD
DTSTART:20250725T081518Z
TZOFFSETFROM:+0000
TZOFFSETTO:+0000
END:STANDARD
END:VTIMEZONE
BEGIN:VEVENT
UID:18-17
DTSTAMP:20260421T081518Z
SUMMARY:18TH CLASS Ôn thi học kì I PHỤNG VỤ
LOCATION:ĐỀN THÁNH ĐỨC MẸ LA VANG 6054 Vermillion Blvd  New Orlean
 s LA 70122
ORGANIZER;CN=Thang Ho:MAILTO:7hangho@gmail.com
DTSTART;TZID=America/Chicago:20230108T000000
DTEND;TZID=America/Chicago:20230108T010000
X-ALT-DESC;FMTTYPE=TEXT/HTML:
CATEGORIES:General
URL;VALUE=URI:https://lavanghph.digcastdeploy.us/mc-events/18th-class-on-th
 i-hoc-ki-i-phung-vu/
METHOD:PUBLISH
END:VEVENT
END:VCALENDAR